BEGIN:VCALENDAR
VERSION:2.0
PRODID:-//Contratero//ES
CALSCALE:GREGORIAN
METHOD:PUBLISH
BEGIN:VEVENT
UID:8/23 SDA-LA@contratero.es
DTSTAMP:20260426T004336Z
DTSTART:20230522T235959
DTEND:20230523T005959
SUMMARY:Cierre: Contratación basada renovación de 11 suscripciones
DESCRIPTION:Contratación basada renovación de 11 suscripciones de licencia Autocad LT\\n\\nOrganismo: Construcciones e Infraestructuras Educativas de la Generalitat Valenciana S.A.\\n\\nVer en Contratero: https://contratero.es/contracts/8/23 SDA-LA
URL:https://contratero.es/contracts/8/23 SDA-LA
STATUS:CONFIRMED
BEGIN:VALARM
TRIGGER:-P1D
ACTION:DISPLAY
DESCRIPTION:Recordatorio: Contratación basada renovación
END:VALARM
END:VEVENT
END:VCALENDAR